BEGIN:VCALENDAR
BEGIN:VEVENT
SUMMARY:[dweller] Neap Tide: Arewà Basit\, Kesswa\, chuki [nycnoise]
DTSTART:20260222T000000Z
DTEND:20260222T010000Z
UID:7ae5e22f-578b-4906-90e9-3bd86574da3f
CREATED:20260425T145149Z
DESCRIPTION:🇵🇸 PACBI (dweller! about + full)
LOCATION:public records (233 butler st.\, brooklyn)
END:VEVENT
END:VCALENDAR
