BEGIN:VCALENDAR
BEGIN:VEVENT
SUMMARY:[dweller] Canary Current: DJ Firmeza\, DJ Marfox\, Nídia\, Leonce
 \, JAGU4R\, Ge-ology [nycnoise]
DTSTART:20260222T040000Z
DTEND:20260222T050000Z
UID:488be356-2887-4a45-a39d-a7fff1c22cd1
CREATED:20260425T145236Z
DESCRIPTION:🇵🇸 PACBI (dweller! about + full)
LOCATION:public records (233 butler st.\, brooklyn)
END:VEVENT
END:VCALENDAR
