BEGIN:VCALENDAR
BEGIN:VEVENT
SUMMARY:[dweller] x Angelito: DJCOWRIIIE b2b Ms.Carrie Stacks\, Syd Falls\
 , LITA DA DOLL\, Clit.hub\, DEMIIGODDESS\, TR@NNYOFDETROIT [nycnoise]
DTSTART:20260221T030000Z
DTEND:20260221T040000Z
UID:6bf69bb2-cb27-4c23-a96f-289680102e93
CREATED:20260425T145330Z
DESCRIPTION:🇵🇸 PACBI (dweller! about + full)
LOCATION:signal (175 Morgan Ave\, Brooklyn\, NY 11237)
END:VEVENT
END:VCALENDAR
