BEGIN:VCALENDAR
BEGIN:VEVENT
SUMMARY:$50+ [nycnoise]
DTSTART:20260228T040000Z
DTEND:20260228T050000Z
UID:c8d659fb-72ac-4b1a-92c3-a599574c7788
CREATED:20260425T145110Z
DESCRIPTION:🇵🇸 PACBI (dweller! about + full) +++ MERGE x DWELLER: ST
 ERAC\, Akua b2b 1morning\, Shyboi\, Juana\, S'aint Panic
LOCATION:<p><strong>tix for address</strong> (21+)\, bklyn</p>
END:VEVENT
END:VCALENDAR
