BEGIN:VCALENDAR
BEGIN:VEVENT
SUMMARY:Environs XI: Alex Baiz Perry / Leni Kreienberg / Paul Sakai\, Drea
 m Princess\, Leftpop\, paper gem (DJ) [nycnoise]
DTSTART:20260227T003000Z
DTEND:20260227T013000Z
UID:602868d9-6a7a-46d6-bb41-a57a3fedd950
CREATED:20260425T145108Z
DESCRIPTION:
LOCATION:dada (6047 Myrtle Ave\, Queens\, NY 11385)
END:VEVENT
END:VCALENDAR
