BEGIN:VCALENDAR
BEGIN:VEVENT
SUMMARY:A.B.E.L.A. (Asociación de Bateristas Electrónicos de Latinoamér
 ica) [nycnoise]
DTSTART:20260222T023000Z
DTEND:20260222T033000Z
UID:b0dedf12-cac4-4eec-ab4b-f62516968e6b
CREATED:20260425T145237Z
DESCRIPTION:"Latinamerican electronic drum circle"
LOCATION:barzakh café (147 Utica Ave\, Brooklyn\, NY 11213)
END:VEVENT
END:VCALENDAR
