BEGIN:VCALENDAR
BEGIN:VEVENT
SUMMARY:Hypercube Quartet [nycnoise]
DTSTART:20260224T003000Z
DTEND:20260224T013000Z
UID:a17151e5-7c8f-44e9-aebb-969ffd7f6e75
CREATED:20260425T145328Z
DESCRIPTION:7pm doors\; new works by Ashkan Behzadi &amp\; Rick Burkhardt
LOCATION:dimenna center benzaquen hall (450 w. 37th st.\, manhattan)
END:VEVENT
END:VCALENDAR
