BEGIN:VCALENDAR
BEGIN:VEVENT
SUMMARY:Unscripted Soundscapes: Marc Edwards & Slipstream Time Travel\, Ay
 umi Ishito / Elliott Sharp / Ken Kobayashi\, Eli Wallace / Brittany Karlso
 n / Nick Neuburg [nycnoise]
DTSTART:20260228T230000Z
DTEND:20260301T000000Z
UID:f42509cf-ec92-4507-92d6-b3082637d544
CREATED:20260425T145324Z
DESCRIPTION:ME&amp\;STT w/ Tor Snyder\, Takuma Kanaiwa\, G&iacute\;an P&ea
 cute\;rez\, Dylan Delgiudice\, Mario Fontes\, Nathan Chamberlain\, Evan Pa
 lmer\, Hans Binter Young\, Kelly E. Bray
LOCATION:ibeam (168 7th st.\, brooklyn)
END:VEVENT
END:VCALENDAR
