BEGIN:VCALENDAR
BEGIN:VEVENT
SUMMARY:Supporting Families of Sunset Park: Amirtha Kidambi / Special Gues
 t / Ka Baird\, Chris Williams\, Cleo Reed\, DJ Haram [nycnoise]
DTSTART:20260223T010000Z
DTEND:20260223T020000Z
UID:4b43081c-943d-4c93-b778-24ede9e31565
CREATED:20260425T145110Z
DESCRIPTION:"Funds raised will be shared directly with families requesting
  support in the face of detention."
LOCATION:sisters (900 fulton st.\, brooklyn)
END:VEVENT
END:VCALENDAR
