BEGIN:VCALENDAR
BEGIN:VEVENT
SUMMARY:LEYA\, Martha Skye Murphy\, Devin Shaffer [nycnoise]
DTSTART:20260226T010000Z
DTEND:20260226T020000Z
UID:1c6be133-ccb4-4c1b-935a-4ee8e62e15da
CREATED:20260425T145329Z
DESCRIPTION:7pm doors
LOCATION:night club 101 (101 avenue a\, manhattan)
END:VEVENT
END:VCALENDAR
