BEGIN:VCALENDAR
BEGIN:VEVENT
SUMMARY:Bella Litsa\, May Rio\, Eliana Glass [nycnoise]
DTSTART:20260228T003000Z
DTEND:20260228T013000Z
UID:07860ffa-378c-4347-8bfa-77935b6fa56b
CREATED:20260425T145237Z
DESCRIPTION:7pm doors
LOCATION:night club 101 (101 avenue a\, manhattan)
END:VEVENT
END:VCALENDAR
