BEGIN:VCALENDAR
BEGIN:VEVENT
SUMMARY:Immanuel Wilkins Quartet (w/ Micah Thomas\, Ryoma Takenaga\, Kweku
  Sumbry) [nycnoise]
DTSTART:20260320T000000Z
DTEND:20260320T010000Z
UID:4c156b8c-ee26-48b5-90bf-beddd117c30c
CREATED:20260425T131035Z
DESCRIPTION:7pm doors
LOCATION:pioneer works (159 pioneer st.\, brooklyn)
END:VEVENT
END:VCALENDAR
