BEGIN:VCALENDAR
BEGIN:VEVENT
SUMMARY:Jake Xerxes Fussell\, Sam Amidon\, Jana Horn [nycnoise]
DTSTART:20260408T233000Z
DTEND:20260409T003000Z
UID:0cc63af8-6479-4d94-81a4-12955ad210a3
CREATED:20260425T110816Z
DESCRIPTION:7pm doors
LOCATION:pioneer works (159 pioneer st.\, brooklyn)
END:VEVENT
END:VCALENDAR
