BEGIN:VCALENDAR
BEGIN:VEVENT
SUMMARY:Clan of Xymox\, Cold Cave\, Buzz Kull\, Rosa Anschütz [nycnoise]
DTSTART:20260425T230000Z
DTEND:20260426T000000Z
UID:ba836373-b4c1-4b00-912d-e55c6aff725d
CREATED:20260425T110919Z
DESCRIPTION:6:30pm doors
LOCATION:pioneer works (159 pioneer st.\, brooklyn)
END:VEVENT
END:VCALENDAR
