BEGIN:VCALENDAR
BEGIN:VEVENT
SUMMARY:$53 [nycnoise]
DTSTART:20260430T000000Z
DTEND:20260430T010000Z
UID:59ab712a-44d3-4610-908e-43a135142d57
CREATED:20260425T111130Z
DESCRIPTION:Long Play: Oneohtrix Point Never &amp\; Freeka Tet (visuals)\,
  Night #1/2 + John Medeski\; 7pm doors
LOCATION:pioneer works (159 pioneer st.\, brooklyn)
END:VEVENT
END:VCALENDAR
