BEGIN:VCALENDAR
BEGIN:VEVENT
SUMMARY:Dysentery\, Ferment\, Fermented Mess\, Silverdollar [nycnoise]
DTSTART:20260301T000000Z
DTEND:20260301T010000Z
UID:a080716f-724a-477f-a00a-9675a1d4fb6d
CREATED:20260425T145108Z
DESCRIPTION:"presented by everlovin' nyc + bored friends"
LOCATION:broadway (1272 broadway\, brooklyn)
END:VEVENT
END:VCALENDAR
