BEGIN:VCALENDAR
BEGIN:VEVENT
SUMMARY:Blockparty Vol.2: Joachim Pfefferkorn\, Stephen Downward\, Russell
  Boswell\, Jacob Beckerman\, Charlie Volow\, Greg Sadetsky\, Issac Chabon 
 [nycnoise]
DTSTART:20260307T000000Z
DTEND:20260307T010000Z
UID:6d3ee449-e0c5-4d48-b990-4aab0caf1fae
CREATED:20260425T130852Z
DESCRIPTION:not music&nbsp\;but neat &amp\; pals!! weirdo developers inclu
 ding our hero-friend&nbsp\;greg\; wish him an early happy bday (for 3/21)!
 !!
LOCATION:secret riso club (basement) (122 Central Ave\, Brooklyn\, NY 1122
 1)
END:VEVENT
END:VCALENDAR
