BEGIN:VCALENDAR
BEGIN:VEVENT
SUMMARY:FUTURE SPACE LAUNCH !: i.n.b.i.o.\, Angel Burner\, Lifehack\, Marc
 o Enri\, Cal Fish\, Slowmovingprince\, Ash\, Segami\, & more [nycnoise]
DTSTART:20260301T020000Z
DTEND:20260301T030000Z
UID:d91db44a-730c-4933-9c1b-2659b1a61739
CREATED:20260425T145330Z
DESCRIPTION:crew fka kaleidoscope now in space fka intercomm!!
LOCATION:future space (584 Woodward Ave\, Ridgewood\, NY 11385)
END:VEVENT
END:VCALENDAR
