BEGIN:VCALENDAR
BEGIN:VEVENT
SUMMARY:Ron Anderson's PAK\, Corridor\, Florid Ekstasis\, Parol [nycnoise]
DTSTART:20260317T230000Z
DTEND:20260318T000000Z
UID:515fc287-652c-486a-954a-b516454878fa
CREATED:20260425T131036Z
DESCRIPTION:7pm doors\; Corridor: Charlie Looker
LOCATION:broadway (1272 broadway\, brooklyn)
END:VEVENT
END:VCALENDAR
