BEGIN:VCALENDAR
BEGIN:VEVENT
SUMMARY:Shiverboard\, Detach the Islands\, Bookie\, Malparido [nycnoise]
DTSTART:20260324T230000Z
DTEND:20260325T000000Z
UID:2e994048-07dd-4b19-9c14-dbab78d411e1
CREATED:20260425T131035Z
DESCRIPTION:7pm doors
LOCATION:broadway (1272 broadway\, brooklyn)
END:VEVENT
END:VCALENDAR
