BEGIN:VCALENDAR
BEGIN:VEVENT
SUMMARY:Jonathan Paik\, Seajun Kwon & Jonathan Reisin\, Travis Bliss / Nik
 ita Manin / Brittany Karlson [nycnoise]
DTSTART:20260313T230000Z
DTEND:20260314T000000Z
UID:eb425f68-d27e-4051-a406-a1abc4238047
CREATED:20260425T130617Z
DESCRIPTION:
LOCATION:brothers wash & dry laundromat (5420 nurge ave\, queens)
END:VEVENT
END:VCALENDAR
