BEGIN:VCALENDAR
BEGIN:VEVENT
SUMMARY:Cute Fest: noremi\, LLVX\, aeshulli [nycnoise]
DTSTART:20260406T000000Z
DTEND:20260406T010000Z
UID:679630ee-8cfe-472d-8088-7dc8bb9d7f15
CREATED:20260425T110956Z
DESCRIPTION:"cute fest: putting the 'superfun' in 'superfund site'" lmao\;
  event&nbsp\;insta\, fest insta
LOCATION:cutelab
END:VEVENT
END:VCALENDAR
