BEGIN:VCALENDAR
BEGIN:VEVENT
SUMMARY:Simon Hanes\, The Croaks\, Retail Drugs\, Austyn Wohlers [nycnoise
 ]
DTSTART:20260312T233000Z
DTEND:20260313T003000Z
UID:eebd5e76-8559-408c-b331-4924597574dc
CREATED:20260425T130617Z
DESCRIPTION:7pm doors
LOCATION:cassette (68-38 forest ave bsmt\, ridgewood)
END:VEVENT
END:VCALENDAR
