BEGIN:VCALENDAR
BEGIN:VEVENT
SUMMARY:Earth | For a Museum of Errantry with Édouard Glissant: Joy Guidr
 y [nycnoise]
DTSTART:20260314T200000Z
DTEND:20260314T210000Z
UID:50823b33-05d6-4ccc-b542-ddaff18e6317
CREATED:20260425T130733Z
DESCRIPTION:
LOCATION:cara (225 w. 13th st.\, manhattan)
END:VEVENT
END:VCALENDAR
