BEGIN:VCALENDAR
BEGIN:VEVENT
SUMMARY:Saturday Salons: Andrew Lampert\, Amy O’Neill\, Lauren O’Neill
 -Butler\, Sukhdev Sandhu [nycnoise]
DTSTART:20260308T000000Z
DTEND:20260308T010000Z
UID:59b29ba7-2706-4202-8c3b-73349bd1cfc6
CREATED:20260425T130919Z
DESCRIPTION:
LOCATION:chocolate factory theater (38-33 24th st.\, long island city)
END:VEVENT
END:VCALENDAR
