BEGIN:VCALENDAR
BEGIN:VEVENT
SUMMARY:Tribe Tapes Presents An Evening of Noise & Tape Music: Jazzhand\, 
 Max Julian Eastman\, Dead Door Unit\, Jackson Kneath [nycnoise]
DTSTART:20260327T230000Z
DTEND:20260328T000000Z
UID:264e8eb1-0915-4e14-9b70-1a541995a865
CREATED:20260425T130615Z
DESCRIPTION:Jazzhand: Finland\, "only appearance here in the States"
LOCATION:fringe records (656 Woodward Ave\, Ridgewood\, NY 11385)
END:VEVENT
END:VCALENDAR
