BEGIN:VCALENDAR
BEGIN:VEVENT
SUMMARY:An Evening of Experimental & Grotesque Electronics: Wreckless Life
 \, Endling\, Dahjyn\, Candace Newmaker [nycnoise]
DTSTART:20260328T230000Z
DTEND:20260329T000000Z
UID:af0566c8-c44e-4ece-99df-a737170eb99a
CREATED:20260425T130850Z
DESCRIPTION:
LOCATION:fringe records (656 Woodward Ave\, Ridgewood\, NY 11385)
END:VEVENT
END:VCALENDAR
