BEGIN:VCALENDAR
BEGIN:VEVENT
SUMMARY:Eliza Salem (w/ Emmanuel Michael\, Jayla Chee) [nycnoise]
DTSTART:20260305T033000Z
DTEND:20260305T043000Z
UID:2476a71a-5a77-434f-80c9-92f81b9b70d9
CREATED:20260425T130918Z
DESCRIPTION:10:30pm set\, 11:30pm session
LOCATION:close up jazz (154 Orchard St\, New York\, NY 10002\, United Stat
 es)
END:VEVENT
END:VCALENDAR
