BEGIN:VCALENDAR
BEGIN:VEVENT
SUMMARY:dance practice (a dancefloor meditation): Rafa\, Robin Cantrell [n
 ycnoise]
DTSTART:20260305T003000Z
DTEND:20260305T013000Z
UID:628a30ed-d2da-459f-834b-635a1e290c6b
CREATED:20260425T130704Z
DESCRIPTION:7:30pm doors\, "begins with a group instruction on mindful mov
 ement &amp\; body awareness"\; 🌀 notaflof work trade
LOCATION:light & sound design
END:VEVENT
END:VCALENDAR
