BEGIN:VCALENDAR
BEGIN:VEVENT
SUMMARY:dance practice (a dancefloor meditation): Evilo\, Alida [nycnoise]
DTSTART:20260318T233000Z
DTEND:20260319T003000Z
UID:b59346bf-ef54-4941-a6c0-0f44dcbb2094
CREATED:20260425T130850Z
DESCRIPTION:🌀 notaflof work trade\; "begins with a group instruction on
  mindful movement &amp\; body awareness"
LOCATION:light & sound design
END:VEVENT
END:VCALENDAR
