BEGIN:VCALENDAR
BEGIN:VEVENT
SUMMARY:dance practice (a dancefloor meditation): concon\, Judea Lowe [nyc
 noise]
DTSTART:20260401T233000Z
DTEND:20260402T003000Z
UID:dee7db2f-429c-439b-962a-fbd6162678e2
CREATED:20260425T110815Z
DESCRIPTION:🌀 notaflof work trade\; "begins with a group instruction on
  mindful movement &amp\; body awareness"
LOCATION:light & sound design
END:VEVENT
END:VCALENDAR
