BEGIN:VCALENDAR
BEGIN:VEVENT
SUMMARY:Henry Fraser (w/ Brandon Seabrook\, Randy Peterson) [nycnoise]
DTSTART:20260322T000000Z
DTEND:20260322T010000Z
UID:d77476ef-2909-41e4-bf67-8f3ef81c6572
CREATED:20260425T130734Z
DESCRIPTION:8pm tix + 10pm tix
LOCATION:close up jazz (154 Orchard St\, New York\, NY 10002\, United Stat
 es)
END:VEVENT
END:VCALENDAR
