BEGIN:VCALENDAR
BEGIN:VEVENT
SUMMARY:Steven Long (w/ Travis Bliss\, Nick Neuburg) [nycnoise]
DTSTART:20260322T233000Z
DTEND:20260323T003000Z
UID:c3f067d7-fe2c-4024-890a-0de0958b7002
CREATED:20260425T131000Z
DESCRIPTION:7:30pm tix + 9pm tix
LOCATION:close up jazz (154 Orchard St\, New York\, NY 10002\, United Stat
 es)
END:VEVENT
END:VCALENDAR
