BEGIN:VCALENDAR
BEGIN:VEVENT
SUMMARY:Strings & Electronics: Jude Berkson\, Ka Baird\, Works by Mica Lev
 i + Robert Ashley (played by gabby fluke-mogul\, Jessica Pavone\, Lester S
 t. Louis\, Tristan Kasten-Krause\, Ron Shalom) [nycnoise]
DTSTART:20260308T000000Z
DTEND:20260308T010000Z
UID:f9a4001b-784a-4bbc-9107-be33bb3a4981
CREATED:20260425T130919Z
DESCRIPTION:🌀 notaflof work trade // curated by Max Levin
LOCATION:light & sound design
END:VEVENT
END:VCALENDAR
