BEGIN:VCALENDAR
BEGIN:VEVENT
SUMMARY:Steve Williams (w/ Alfredo Colón\, David Leon\, Jonathan Paik\, M
 arcelo Camacho) [nycnoise]
DTSTART:20260323T233000Z
DTEND:20260324T003000Z
UID:2961a5bb-c092-43f6-ab4c-2fcf8192d1b5
CREATED:20260425T130852Z
DESCRIPTION:7:30pm tix + 9pm tix
LOCATION:close up jazz (154 Orchard St\, New York\, NY 10002\, United Stat
 es)
END:VEVENT
END:VCALENDAR
