BEGIN:VCALENDAR
BEGIN:VEVENT
SUMMARY:Yvonne Rogers [nycnoise]
DTSTART:20260327T023000Z
DTEND:20260327T033000Z
UID:3b8c6aee-a2a8-40d6-90bb-3573ac46216f
CREATED:20260425T130959Z
DESCRIPTION:10:30pm set\, 11:30pm session
LOCATION:close up jazz (154 Orchard St\, New York\, NY 10002\, United Stat
 es)
END:VEVENT
END:VCALENDAR
