BEGIN:VCALENDAR
BEGIN:VEVENT
SUMMARY:Luke Stewart (w/ Daniel Carter\, Adegoke Steve Colson\, Chris Beck
 ) [nycnoise]
DTSTART:20260330T233000Z
DTEND:20260331T003000Z
UID:c7e0cc95-618f-4df9-8ce3-988c7671f121
CREATED:20260425T130728Z
DESCRIPTION:7:30pm tix + 9pm tix
LOCATION:close up jazz (154 Orchard St\, New York\, NY 10002\, United Stat
 es)
END:VEVENT
END:VCALENDAR
