BEGIN:VCALENDAR
BEGIN:VEVENT
SUMMARY:Echoes of the Archive: Chaia\, Nema Hän\, Neonlichter\, BLKshine 
 [nycnoise]
DTSTART:20260313T230000Z
DTEND:20260314T000000Z
UID:4463460c-c80c-4bab-bb47-0c7ba8a086b9
CREATED:20260425T130702Z
DESCRIPTION:🌀 notaflof work trade\; "artists who sample traditional mus
 ic\, reworking it live with electronics"
LOCATION:light & sound design
END:VEVENT
END:VCALENDAR
