BEGIN:VCALENDAR
BEGIN:VEVENT
SUMMARY:Good Grief & Mess is Lore: JP (live)\, SCRAAATCH (live)\, Relaxer 
 (live)\, Carpet FLHP b2b Marble Rye [nycnoise]
DTSTART:20260317T230000Z
DTEND:20260318T000000Z
UID:e62672ea-6f09-42a6-8ad3-9dc9a87d8576
CREATED:20260425T130734Z
DESCRIPTION:🌀 notaflof work trade
LOCATION:light & sound design
END:VEVENT
END:VCALENDAR
