BEGIN:VCALENDAR
BEGIN:VEVENT
SUMMARY:DMG Free Tues | A Night of Extraordinary Vocalists: Lorin Benedict
  & Charmaine Lee\, Kyoko Kitamura\, Noa Fort / Yoon Sun Choi / Elena Camer
 in\, Amy Sheffer & Rosi Hertlein [nycnoise]
DTSTART:20260324T223000Z
DTEND:20260324T233000Z
UID:a3657551-a376-42a5-ab1f-06f5e51f6e03
CREATED:20260425T130616Z
DESCRIPTION:
LOCATION:downtown music gallery (13 monroe st.\, manhattan)
END:VEVENT
END:VCALENDAR
