BEGIN:VCALENDAR
BEGIN:VEVENT
SUMMARY:Fire Over Heaven: Ryan Sawyer Shaker Ensemble\, Jamal Moore & Che 
 Chen\, Shara Lunon [nycnoise]
DTSTART:20260320T000000Z
DTEND:20260320T010000Z
UID:8c746b8f-4f2b-4f9b-a8e2-bfc42b343a9e
CREATED:20260425T130617Z
DESCRIPTION:
LOCATION:outpost artists resources (1665 norman st.\, ridgewood)
END:VEVENT
END:VCALENDAR
