BEGIN:VCALENDAR
BEGIN:VEVENT
SUMMARY:Chemical\, Debris Bardot\, Karol Konstancia\, Peace Thru Strength 
 [nycnoise]
DTSTART:20260316T003000Z
DTEND:20260316T013000Z
UID:15cbdf32-cf4e-412d-92e3-c6261cedf41c
CREATED:20260425T130837Z
DESCRIPTION:7:30pm doors
LOCATION:hart bar (538 hart st.\, brooklyn)
END:VEVENT
END:VCALENDAR
