BEGIN:VCALENDAR
BEGIN:VEVENT
SUMMARY:Merry Bday Danny Xmas: Danny Christmas\, Dolly Sods\, Wheavy\, Two
  Point Oh [nycnoise]
DTSTART:20260315T000000Z
DTEND:20260315T010000Z
UID:48f2e49f-bcb9-4806-8978-c42da5340a02
CREATED:20260425T130851Z
DESCRIPTION:7pm doors
LOCATION:murder palace
END:VEVENT
END:VCALENDAR
