BEGIN:VCALENDAR
BEGIN:VEVENT
SUMMARY:Interpretations: Miguel Frasconi / Tom Hamilton / Matthew Ostrowsk
 i (w/ Meaghan Burke)\, Mari Kimura [nycnoise]
DTSTART:20260320T000000Z
DTEND:20260320T010000Z
UID:9be72ff2-e001-4eb2-a631-18a19a10156a
CREATED:20260425T130735Z
DESCRIPTION:7pm doors
LOCATION:roulette (509 atlantic ave\, brooklyn)
END:VEVENT
END:VCALENDAR
