BEGIN:VCALENDAR
BEGIN:VEVENT
SUMMARY:Chuck Roth [nycnoise]
DTSTART:20260325T000000Z
DTEND:20260325T010000Z
UID:f488ea86-9016-4ae7-9477-e22922bcbf73
CREATED:20260425T130549Z
DESCRIPTION:7pm/$30 doors
LOCATION:roulette (509 atlantic ave\, brooklyn)
END:VEVENT
END:VCALENDAR
