BEGIN:VCALENDAR
BEGIN:VEVENT
SUMMARY:Beautiful Evening: Francesca H. x Alex McGrath\, Kwami x Cal\, Jul
 ia Santoli\, Hideo Rakudou (w/ chai)\, Becca Rodriguez (w/ chai) [nycnoise
 ]
DTSTART:20260312T000000Z
DTEND:20260312T010000Z
UID:8ee9eccd-6d2f-4a50-8af2-87ce48a213b4
CREATED:20260425T131246Z
DESCRIPTION:7pm doors
LOCATION:living gallery (1094 broadway\, brooklyn)
END:VEVENT
END:VCALENDAR
