BEGIN:VCALENDAR
BEGIN:VEVENT
SUMMARY:Rave Stab Vol. 4: Océane\, Broken Spear\, Glass Eater [nycnoise]
DTSTART:20260307T010000Z
DTEND:20260307T020000Z
UID:cdaf891a-693e-4d3e-9875-c6ea3c30a9f5
CREATED:20260425T130835Z
DESCRIPTION:💡💨 "fog / intense strobe &amp\; lighting effects ... pho
 tosensitive guests are recommended not to attend"
LOCATION:living gallery (1094 broadway\, brooklyn)
END:VEVENT
END:VCALENDAR
