BEGIN:VCALENDAR
BEGIN:VEVENT
SUMMARY:Caroline Davis / Grey McMurray / Qasim Naqvi\, Sam Decker Quartet\
 , Joey van Leeuwen Quartet [nycnoise]
DTSTART:20260308T233000Z
DTEND:20260309T003000Z
UID:a02135c8-82eb-473c-95cf-8b661632d5ac
CREATED:20260425T130852Z
DESCRIPTION:
LOCATION:threes brewing (333 douglass st.\, brooklyn)
END:VEVENT
END:VCALENDAR
