BEGIN:VCALENDAR
BEGIN:VEVENT
SUMMARY:Noah Stoneman / Felix Moseholm Trio\, Selendis Sebastian Alexander
  Johnson [nycnoise]
DTSTART:20260319T000000Z
DTEND:20260319T010000Z
UID:9a322d60-fdbb-4602-9620-f675b0f9000d
CREATED:20260425T130617Z
DESCRIPTION:
LOCATION:threes brewing (333 douglass st.\, brooklyn)
END:VEVENT
END:VCALENDAR
