BEGIN:VCALENDAR
BEGIN:VEVENT
SUMMARY:Yuma Uesaka & Simon Kanzler\, Mat Muntz's Windbag [nycnoise]
DTSTART:20260324T000000Z
DTEND:20260324T010000Z
UID:a008f4a4-baf8-4bfe-a06b-2145adb58958
CREATED:20260425T130850Z
DESCRIPTION:MMW w/ Scott Amendola\, Ben Goldberg\, Elijah Shiffer\, Uesaka
LOCATION:threes brewing (333 douglass st.\, brooklyn)
END:VEVENT
END:VCALENDAR
